BEGIN:VCALENDAR
VERSION:2.0
PRODID:icalendar-ruby
CALSCALE:GREGORIAN
BEGIN:VEVENT
DTSTAMP:20181221T111934Z
UID:1e20780b-44de-44ca-8508-f7b78839613d
DTSTART;VALUE=DATE:20100407
DESCRIPTION:Property ID# 220921\, Locatoin: Bayleys Offices Mount Maunganui
 \, Time: 4pm
SUMMARY:Auction for 
END:VEVENT
END:VCALENDAR
