BEGIN:VCALENDAR
VERSION:2.0
PRODID:icalendar-ruby
CALSCALE:GREGORIAN
BEGIN:VEVENT
DTSTAMP:20181221T111928Z
UID:edc551dc-3e0e-4589-bdc4-4bb3f41b44b0
DTSTART;VALUE=DATE:20110122
DESCRIPTION:Property ID# 237640\, Locatoin: On Site\, Time: 11am
SUMMARY:Auction for 
END:VEVENT
END:VCALENDAR
