BEGIN:VCALENDAR
VERSION:2.0
PRODID:icalendar-ruby
CALSCALE:GREGORIAN
BEGIN:VEVENT
DTSTAMP:20181221T111926Z
UID:23ca4eb8-bebc-4c59-9214-07d896dab390
DTSTART;TZID=Pacific/Auckland:20181223T130000
DTEND;TZID=Pacific/Auckland:20181223T140000
DESCRIPTION:Property ID# 441607
SUMMARY:Openhome for 17 Kalmia Dell 
END:VEVENT
END:VCALENDAR
