BEGIN:VCALENDAR
VERSION:2.0
PRODID:icalendar-ruby
CALSCALE:GREGORIAN
BEGIN:VEVENT
DTSTAMP:20260424T215556Z
UID:6338e374-333a-4a40-9229-96ed7056d1ec
DTSTART;VALUE=DATE:20190815
DESCRIPTION:Property ID# 458313\, Locatoin: 247 Cameron Road\, Tauranga\, T
 ime: 12:00PM
SUMMARY:Auction for 
END:VEVENT
END:VCALENDAR
