BEGIN:VCALENDAR
VERSION:2.0
PRODID:icalendar-ruby
CALSCALE:GREGORIAN
BEGIN:VEVENT
DTSTAMP:20260424T215716Z
UID:4d15e575-7503-41c0-a845-14cfe385358d
DTSTART;VALUE=DATE:20191212
DESCRIPTION:Property ID# 467277\, Locatoin: 257 Cameron Road\, Tauranga\, T
 ime: 1:00PM
SUMMARY:Auction for 
END:VEVENT
END:VCALENDAR
