BEGIN:VCALENDAR
VERSION:2.0
PRODID:icalendar-ruby
CALSCALE:GREGORIAN
BEGIN:VEVENT
DTSTAMP:20260425T004446Z
UID:a7245849-ac20-45f4-b17e-1f96bf8ee1ff
DTSTART;VALUE=DATE:20200820
DESCRIPTION:Property ID# 486048\, Locatoin: Harcourts Auction Room\, 1 Thir
 d Avenue\, Tauranga\, Time: 1:00PM
SUMMARY:Auction for 
END:VEVENT
END:VCALENDAR
