BEGIN:VCALENDAR
VERSION:2.0
PRODID:icalendar-ruby
CALSCALE:GREGORIAN
BEGIN:VEVENT
DTSTAMP:20260424T215931Z
UID:b25249b4-4b18-47e7-b5ed-6647a18dbdfa
DTSTART;VALUE=DATE:20201008
DESCRIPTION:Property ID# 490234\, Locatoin: 257 Cameron Road\, Tauranga\, T
 ime: 1:00PM
SUMMARY:Auction for 
END:VEVENT
END:VCALENDAR
