BEGIN:VCALENDAR
VERSION:2.0
PRODID:icalendar-ruby
CALSCALE:GREGORIAN
BEGIN:VEVENT
DTSTAMP:20260424T215853Z
UID:759ca16a-72a7-4834-b8d9-bb44451d9742
DTSTART;VALUE=DATE:20210211
DESCRIPTION:Property ID# 500722\, Locatoin: 257 Cameron Road\, Tauranga\, T
 ime: 12:00PM
SUMMARY:Auction for 
END:VEVENT
END:VCALENDAR
