BEGIN:VCALENDAR
VERSION:2.0
PRODID:icalendar-ruby
CALSCALE:GREGORIAN
BEGIN:VEVENT
DTSTAMP:20260425T004436Z
UID:f8d0b2b3-5305-4611-be68-a528248c04a9
DTSTART;VALUE=DATE:20210331
DESCRIPTION:Property ID# 504372\, Locatoin: Harcourts\, 1 Third Avenue\, Ta
 uranga\, Time: 1:30PM
SUMMARY:Auction for 
END:VEVENT
END:VCALENDAR
