BEGIN:VCALENDAR
VERSION:2.0
PRODID:icalendar-ruby
CALSCALE:GREGORIAN
BEGIN:VEVENT
DTSTAMP:20260424T215931Z
UID:3173363a-9f9e-4268-84ef-c10d31794281
DTSTART;VALUE=DATE:20210429
DESCRIPTION:Property ID# 507976\, Locatoin: 257 Cameron Road\, Tauranga\, T
 ime: 1:00PM
SUMMARY:Auction for 
END:VEVENT
END:VCALENDAR
