BEGIN:VCALENDAR
VERSION:2.0
PRODID:icalendar-ruby
CALSCALE:GREGORIAN
BEGIN:VEVENT
DTSTAMP:20260419T145056Z
UID:d3a79bd3-0d6d-4692-a82f-c0d0dbf76f6d
DTSTART;VALUE=DATE:20210609
DESCRIPTION:Property ID# 509757\, Locatoin: Auction Rooms\, 247 Cameron Roa
 d\, Tauranga. Unless sold prior\, Time: 1:00PM
SUMMARY:Auction for 
END:VEVENT
END:VCALENDAR
