BEGIN:VCALENDAR
VERSION:2.0
PRODID:icalendar-ruby
CALSCALE:GREGORIAN
BEGIN:VEVENT
DTSTAMP:20260422T094806Z
UID:7f0c55bb-027b-4387-bdba-04046ee27c5f
DTSTART;VALUE=DATE:20210610
DESCRIPTION:Property ID# 510212\, Locatoin: ANZ House\, 247 Cameron Road\, 
 Tauranga\, Time: 1:00PM
SUMMARY:Auction for 
END:VEVENT
END:VCALENDAR
