BEGIN:VCALENDAR
VERSION:2.0
PRODID:icalendar-ruby
CALSCALE:GREGORIAN
BEGIN:VEVENT
DTSTAMP:20260424T215618Z
UID:8b3dea61-2e1e-47fc-8d51-fa81e0a0cca1
DTSTART;VALUE=DATE:20210624
DESCRIPTION:Property ID# 511767\, Locatoin: 257 Cameron Road\, Tauranga\, T
 ime: 12:00PM
SUMMARY:Auction for 
END:VEVENT
END:VCALENDAR
