BEGIN:VCALENDAR
VERSION:2.0
PRODID:icalendar-ruby
CALSCALE:GREGORIAN
BEGIN:VEVENT
DTSTAMP:20260424T215358Z
UID:98e731d6-e901-4e48-85a5-9235b6438bc7
DTSTART;VALUE=DATE:20210805
DESCRIPTION:Property ID# 514275\, Locatoin: 257 Cameron Road\, Tauranga\, T
 ime: 1:00PM
SUMMARY:Auction for 
END:VEVENT
END:VCALENDAR
