BEGIN:VCALENDAR
VERSION:2.0
PRODID:icalendar-ruby
CALSCALE:GREGORIAN
BEGIN:VEVENT
DTSTAMP:20260421T090503Z
UID:5d40ef8f-55fd-4cfb-abdf-65f9dc23a499
DTSTART;VALUE=DATE:20211020
DESCRIPTION:Property ID# 518203\, Locatoin: Auction Rooms\, 247 Cameron Roa
 d\, Tauranga. Unless sold prior\, Time: 1:00PM
SUMMARY:Auction for 
END:VEVENT
END:VCALENDAR
