BEGIN:VCALENDAR
VERSION:2.0
PRODID:icalendar-ruby
CALSCALE:GREGORIAN
BEGIN:VEVENT
DTSTAMP:20260421T100208Z
UID:ea7508a4-beea-42d5-9a60-c0a593cfdf8d
DTSTART;VALUE=DATE:20211115
DESCRIPTION:Property ID# 520231\, Locatoin: 247 Cameron Road (cnr Elizabeth
  Street)\, Tauranga (unless sold prior)\, Time: 4:00PM
SUMMARY:Auction for 
END:VEVENT
END:VCALENDAR
