BEGIN:VCALENDAR
VERSION:2.0
PRODID:icalendar-ruby
CALSCALE:GREGORIAN
BEGIN:VEVENT
DTSTAMP:20260421T090400Z
UID:d9b4568c-0f3a-45dd-a522-7e1dcb4eb32b
DTSTART;VALUE=DATE:20211208
DESCRIPTION:Property ID# 522345\, Locatoin: Auction Rooms\, 247 Cameron Roa
 d\, Tauranga. Unless sold prior\, Time: 1:00PM
SUMMARY:Auction for 
END:VEVENT
END:VCALENDAR
