BEGIN:VCALENDAR
VERSION:2.0
PRODID:icalendar-ruby
CALSCALE:GREGORIAN
BEGIN:VEVENT
DTSTAMP:20260423T082800Z
UID:0aab8ccc-1335-4ddf-b9b4-9ddda7b14369
DTSTART;VALUE=DATE:20220202
DESCRIPTION:Property ID# 525353\, Locatoin: 247 Cameron Road\, Tauranga\, T
 ime: 1:00PM
SUMMARY:Auction for 
END:VEVENT
END:VCALENDAR
