BEGIN:VCALENDAR
VERSION:2.0
PRODID:icalendar-ruby
CALSCALE:GREGORIAN
BEGIN:VEVENT
DTSTAMP:20260421T131745Z
UID:6646afec-006f-4f9e-9c21-b2d9860e7788
DTSTART;VALUE=DATE:20230615
DESCRIPTION:Property ID# 557453\, Locatoin: Auction rooms\, 247 Cameron Rd\
 , Tauranga \, Time: 1:00PM
SUMMARY:Auction for 
END:VEVENT
END:VCALENDAR
