BEGIN:VCALENDAR
VERSION:2.0
PRODID:icalendar-ruby
CALSCALE:GREGORIAN
BEGIN:VEVENT
DTSTAMP:20260423T123631Z
UID:af283470-49b4-4565-a827-6fc17c7f5785
DTSTART;VALUE=DATE:20250205
DESCRIPTION:Property ID# 586336\, Locatoin:  Harcourts Auction Rooms\, 1 Th
 ird Avenue\, Tauranga\, Time: 11:30AM
SUMMARY:Auction for 
END:VEVENT
END:VCALENDAR
