BEGIN:VCALENDAR
VERSION:2.0
PRODID:icalendar-ruby
CALSCALE:GREGORIAN
BEGIN:VEVENT
DTSTAMP:20260421T090500Z
UID:ac6ab9e1-9a8b-4d9a-a268-9c28ba09bde2
DTSTART;VALUE=DATE:20250501
DESCRIPTION:Property ID# 591516\, Locatoin: Auction Rooms\, 247 Cameron Roa
 d\, Tauranga. Unless sold prior\, Time: 1:00PM
SUMMARY:Auction for 
END:VEVENT
END:VCALENDAR
