BEGIN:VCALENDAR
VERSION:2.0
PRODID:icalendar-ruby
CALSCALE:GREGORIAN
BEGIN:VEVENT
DTSTAMP:20260420T163706Z
UID:fed98e1f-576d-4303-979a-56e8a2d1eb9f
DTSTART;VALUE=DATE:20250709
DESCRIPTION:Property ID# 594241\, Time: 1:00PM
SUMMARY:Auction for 
END:VEVENT
END:VCALENDAR
