BEGIN:VCALENDAR
VERSION:2.0
PRODID:icalendar-ruby
CALSCALE:GREGORIAN
BEGIN:VEVENT
DTSTAMP:20260419T174256Z
UID:687ee50c-e2e3-4589-ae9e-8a8212bd5eac
DTSTART;VALUE=DATE:20251112
DESCRIPTION:Property ID# 599166\, Locatoin: Harcourts Auction Room\, 1 Thir
 d Avenue\, Tauranga\, Time: 11:30AM
SUMMARY:Auction for 
END:VEVENT
END:VCALENDAR
