BEGIN:VCALENDAR
VERSION:2.0
PRODID:icalendar-ruby
CALSCALE:GREGORIAN
BEGIN:VEVENT
DTSTAMP:20260425T115048Z
UID:26571579-7df2-49fd-ba4a-1bed8469bdcf
DTSTART;VALUE=DATE:20260305
DESCRIPTION:Property ID# 603485\, Locatoin: 247 Cameron Road\, Tauranga\, T
 ime: 1:00PM
SUMMARY:Auction for 
END:VEVENT
END:VCALENDAR
